BEGIN:VCALENDAR
VERSION:2.0
PRODID:-//Dundalk Chamber Of Commerce - ECPv6.15.20//NONSGML v1.0//EN
CALSCALE:GREGORIAN
METHOD:PUBLISH
X-WR-CALNAME:Dundalk Chamber Of Commerce
X-ORIGINAL-URL:https://www.dundalk.ie
X-WR-CALDESC:Events for Dundalk Chamber Of Commerce
REFRESH-INTERVAL;VALUE=DURATION:PT1H
X-Robots-Tag:noindex
X-PUBLISHED-TTL:PT1H
BEGIN:VTIMEZONE
TZID:Europe/Dublin
BEGIN:DAYLIGHT
TZOFFSETFROM:+0000
TZOFFSETTO:+0100
TZNAME:IST
DTSTART:20250330T010000
END:DAYLIGHT
BEGIN:STANDARD
TZOFFSETFROM:+0100
TZOFFSETTO:+0000
TZNAME:GMT
DTSTART:20251026T010000
END:STANDARD
BEGIN:DAYLIGHT
TZOFFSETFROM:+0000
TZOFFSETTO:+0100
TZNAME:IST
DTSTART:20260329T010000
END:DAYLIGHT
BEGIN:STANDARD
TZOFFSETFROM:+0100
TZOFFSETTO:+0000
TZNAME:GMT
DTSTART:20261025T010000
END:STANDARD
BEGIN:DAYLIGHT
TZOFFSETFROM:+0000
TZOFFSETTO:+0100
TZNAME:IST
DTSTART:20270328T010000
END:DAYLIGHT
BEGIN:STANDARD
TZOFFSETFROM:+0100
TZOFFSETTO:+0000
TZNAME:GMT
DTSTART:20271031T010000
END:STANDARD
END:VTIMEZONE
BEGIN:VEVENT
DTSTART;TZID=Europe/Dublin:20260303T080000
DTEND;TZID=Europe/Dublin:20260303T133000
DTSTAMP:20260420T192005
CREATED:20260115T093018Z
LAST-MODIFIED:20260218T095342Z
UID:4199-1772524800-1772544600@www.dundalk.ie
SUMMARY:CROSS-BORDER TRADE & ECONOMIC CONFERENCE
DESCRIPTION:Register now for Newry & Dundalk Chambers’ Annual Cross-Border Conference\, focusing on the continuous theme of the conference ‘Building a Sustainable All-Island Economy’ on Tuesday 3rd March in the Carrickdale Hotel & Spa. \nWith great local and global economic uncertainty and the increasing cost of doing business creating a challenging business environment\, our businesses need to plan for the future and help build a sustainable\, successful All-Island Economy. \nGovernment representatives\, keynote speakers\, policy officials and business advisors will set out the shape of future cross-border cooperation and their priorities for the region\, across three key themes including\n(1) The All-Island Economy\n(2) Skills & People: A Cross-Border Partnership Approach\n(3) Collaboration & Infrastructure at the Heart of the All-Island Economy \nWith Newry and Dundalk at the centre of the Dublin Belfast Economic Corridor\, cross-border cooperation is at the very core of economic success on both sides of the border. \nThe packed conference programme will provide you and your business with a unique chance to hear from experts on the issues that matter to you and the opportunities for enhanced collaboration with other stakeholders in the cross-border economy. \nNumerous exhibitors will also be in attendance on the day to make you aware of all the help and support that is out there for you to avail of and to chat with you directly about how they can assist your business. \nThe conference is regularly attended by 300+ local business representatives from both North & South and the full programme will be published in the coming weeks but make sure you secure your FREE place today. \nCONFERENCE PROGRAMME \nBOOK YOUR PLACE TODAY HERE
URL:https://www.dundalk.ie/event/cross-border-trade-economic-conference/
LOCATION:Carrickdale Hotel
CATEGORIES:Business
ATTACH;FMTTYPE=image/png:https://www.dundalk.ie/wp-content/uploads/2026/01/CB-Conference.png
END:VEVENT
BEGIN:VEVENT
DTSTART;VALUE=DATE:20260325
DTEND;VALUE=DATE:20260326
DTSTAMP:20260420T192005
CREATED:20260209T112558Z
LAST-MODIFIED:20260209T112558Z
UID:4280-1774396800-1774483199@www.dundalk.ie
SUMMARY:Dundalk Chamber Embassy Visit Series 2026: Mexican Embassy
DESCRIPTION:As part of the Dundalk Chamber Embassy Visit Series 2026\, we are delighted to be hosting the Mexican Embassy on Wednesday the 25th March 2026 in the Local Enterprise Office Louth\, Town Hall\, Crowe Street. \nEmbassy representative Deputy Head of Mission\, Mr. Tomas Olvera will meet companies through dedicated one-to-one sessions. These 30-minute sessions offer a valuable opportunity to explore trade and investment opportunities\, discuss potential partnerships\, and gain practical insights into doing business with Mexico. \nThe Embassy are particularly interested in connecting with potential buyers in the health sciences\, infrastructure\, and manufacturing sectors for investment in Mexico. Additionally\, they are interested in potential buyers in the ICT\, food\, medical device\, art\, mezcal\, tequila\, and gift industries. \nMeeting Format: 30-minute one-to-one sessions. Places are limited and will be allocated on a first-come\, first-served basis. This is an excellent opportunity to strengthen your international trade prospects in 2026. \nBook your FREE meeting today.
URL:https://www.dundalk.ie/event/dundalk-chamber-embassy-visit-series-2026-mexican-embassy/
LOCATION:Local Enterprise Office Louth\, Town Hall\, Crowe Street\, Dundalk\, County Louth\, A91 W20C\, Ireland
CATEGORIES:Business
ATTACH;FMTTYPE=image/png:https://www.dundalk.ie/wp-content/uploads/2026/02/For-Website-1.png
ORGANIZER;CN="Dundalk Chamber":MAILTO:info@dundalk.ie
END:VEVENT
END:VCALENDAR