BEGIN:VCALENDAR
VERSION:2.0
PRODID:-//Dundalk Chamber Of Commerce - ECPv6.15.20//NONSGML v1.0//EN
CALSCALE:GREGORIAN
METHOD:PUBLISH
X-ORIGINAL-URL:https://www.dundalk.ie
X-WR-CALDESC:Events for Dundalk Chamber Of Commerce
REFRESH-INTERVAL;VALUE=DURATION:PT1H
X-Robots-Tag:noindex
X-PUBLISHED-TTL:PT1H
BEGIN:VTIMEZONE
TZID:Europe/Dublin
BEGIN:DAYLIGHT
TZOFFSETFROM:+0000
TZOFFSETTO:+0100
TZNAME:IST
DTSTART:20250330T010000
END:DAYLIGHT
BEGIN:STANDARD
TZOFFSETFROM:+0100
TZOFFSETTO:+0000
TZNAME:GMT
DTSTART:20251026T010000
END:STANDARD
BEGIN:DAYLIGHT
TZOFFSETFROM:+0000
TZOFFSETTO:+0100
TZNAME:IST
DTSTART:20260329T010000
END:DAYLIGHT
BEGIN:STANDARD
TZOFFSETFROM:+0100
TZOFFSETTO:+0000
TZNAME:GMT
DTSTART:20261025T010000
END:STANDARD
BEGIN:DAYLIGHT
TZOFFSETFROM:+0000
TZOFFSETTO:+0100
TZNAME:IST
DTSTART:20270328T010000
END:DAYLIGHT
BEGIN:STANDARD
TZOFFSETFROM:+0100
TZOFFSETTO:+0000
TZNAME:GMT
DTSTART:20271031T010000
END:STANDARD
END:VTIMEZONE
BEGIN:VEVENT
DTSTART;TZID=Europe/Dublin:20260120T093000
DTEND;TZID=Europe/Dublin:20260120T123000
DTSTAMP:20260420T232456
CREATED:20251112T134023Z
LAST-MODIFIED:20251112T134023Z
UID:4048-1768901400-1768912200@www.dundalk.ie
SUMMARY:Inspire & Engage Expo - Dundalk Chamber School Mentorship Programme 2025-2026
DESCRIPTION:Dundalk Chamber are delighted to support and engage with businesses and local secondary schools in the area through our School Mentorship Programme.  Through the programme businesses can raise their profile and highlight the wealth of talent\, innovation and cutting-edge businesses that exist in the area. The programme also gives students (senior cycle) a unique opportunity to engage with a range of local employers and for teachers to build relationships to enhance careers guidance and curriculum development. \nYOUR BUSINESS – THEIR FUTURE – ONE POWERFUL CONNECTION \nWhy get involved? \n\nInspire the next generation\nProfile your business\nBuild a local talent pipeline\nMake a real difference\nCorporate Social Responsibi\n\nWhat to expect? \n\nElevate your company profile amongst local future talent\nOpportunity to showcase your business and career opportunities\nInteractive sessions with senior cycle secondary students – engage students 1:1\nDiscuss future collaborations with schools (TY work placements\, guest speaker talks. site visits)\n\nFor Businesses \nFor Schools
URL:https://www.dundalk.ie/event/inspire-engage-expo-dundalk-chamber-school-mentorship-programme-2025-2026/
LOCATION:Dundalk Credit Union\, No. 4-5 Clanbrassil Street\, Dundalk\, Ireland
CATEGORIES:Business
ATTACH;FMTTYPE=image/png:https://www.dundalk.ie/wp-content/uploads/2025/11/School-Expo-for-Website.png
END:VEVENT
BEGIN:VEVENT
DTSTART;TZID=Europe/Dublin:20260121T100000
DTEND;TZID=Europe/Dublin:20260121T110000
DTSTAMP:20260420T232456
CREATED:20251022T133254Z
LAST-MODIFIED:20260121T130207Z
UID:3981-1768989600-1768993200@www.dundalk.ie
SUMMARY:Manage Stress Better in 2026: Free Online Workshop with Lifestyle Awareness
DESCRIPTION:Start your 2026 feeling calm\, clear\, and in control. Join us for a wellbeing workshop to kickstart the year — Manage Stress Better in 2026 — with Lifestyle Awareness. \n  \nThis workshop explores practical strategies to help you manage modern stress at work and in everyday life. You’ll learn about: \n\nModern stress\, life & work — understanding where pressure really comes from\nOur tricky brains — why we react the way we do under stress\nPractical tools & solutions — simple ways to calm your mind and body\nA flexible mindset — staying adaptable and positive when life gets tough\nStress reduction challenge — take away a personal goal to put learning into action\n\n  \nWhether you’re balancing work\, family\, or personal challenges\, this session will equip you with insights and strategies to reduce stress and build resilience for the year ahead. \nReserve your spot today!
URL:https://www.dundalk.ie/event/manage-stress-better-in-2026-free-online-workshop-with-lifestyle-awareness/
LOCATION:Online
CATEGORIES:Business
ATTACH;FMTTYPE=image/png:https://www.dundalk.ie/wp-content/uploads/2025/10/For-Website.png
ORGANIZER;CN="Dundalk Chamber":MAILTO:info@dundalk.ie
END:VEVENT
BEGIN:VEVENT
DTSTART;TZID=Europe/Dublin:20260128T093000
DTEND;TZID=Europe/Dublin:20260128T130000
DTSTAMP:20260420T232456
CREATED:20260106T124459Z
LAST-MODIFIED:20260106T124500Z
UID:4165-1769592600-1769605200@www.dundalk.ie
SUMMARY:Dundalk Chamber Embassy Visit Series 2026: Lithuanian Embassy Visit
DESCRIPTION:As part of the Dundalk Chamber Embassy Visit Series 2026\, we are delighted to welcome the Commercial Attaché from the Embassy of Lithuania to Dundalk on Wednesday\, 28th January 2026. \nThe Commercial Attaché will be available to meet with local businesses through dedicated one-to-one sessions. These 30-minute meetings offer a valuable opportunity to explore trade and investment opportunities\, discuss potential partnerships\, and gain practical insights into doing business with Lithuania. \nWhether you are an established exporter or just beginning to explore international markets\, this visit provides direct access to market knowledge and embassy-level support. \nAre you currently exporting to Lithuania or considering it? \nAre you interested in importing Lithuanian products or services? \nAre you looking to expand your business connections in the Baltic region? \nMeeting Format: 30-minute one-to-one sessions. Places are limited and will be allocated on a first-come\, first-served basis. This is an excellent opportunity to start 2026 by strengthening your international trade prospects. \nBook your FREE meeting today. \n 
URL:https://www.dundalk.ie/event/dundalk-chamber-embassy-visit-series-2026-lithuanian-embassy-visit/
LOCATION:Local Enterprise Office Louth\, Town Hall\, Crowe Street\, Dundalk\, County Louth\, A91 W20C\, Ireland
CATEGORIES:Business
ATTACH;FMTTYPE=image/png:https://www.dundalk.ie/wp-content/uploads/2026/01/For-Website.png
ORGANIZER;CN="Dundalk Chamber":MAILTO:info@dundalk.ie
END:VEVENT
BEGIN:VEVENT
DTSTART;TZID=Europe/Dublin:20260128T100000
DTEND;TZID=Europe/Dublin:20260128T113000
DTSTAMP:20260420T232456
CREATED:20251022T134803Z
LAST-MODIFIED:20260129T121446Z
UID:3984-1769594400-1769599800@www.dundalk.ie
SUMMARY:Marketing 2026: Goodbye SEO\, Time for GEO
DESCRIPTION:The world of marketing is changing fast — and 2026 is set to redefine the rules. Join us for this forward-focused session\, Marketing 2026: Goodbye SEO\, Time for GEO\, presented by David Kieran\, CEO of Zoma. \nthis session cuts through the noise to reveal the critical marketing trends defining 2026\, including the shift to Geo-Optimisation\, the impact of AI driven strategies\, and the emerging social media trends you need to adopt now to ensure scalable\, localised growth. \nDon’t plan for next year – dominate it. \nBook Now! FREE to Dundalk Chamber Members\, €10 plus VAT for Non Members
URL:https://www.dundalk.ie/event/marketing-2026-goodbye-seo-time-for-geo/
LOCATION:Online
CATEGORIES:Business
ATTACH;FMTTYPE=image/png:https://www.dundalk.ie/wp-content/uploads/2025/10/For-Website-1.png
ORGANIZER;CN="Dundalk Chamber":MAILTO:info@dundalk.ie
END:VEVENT
BEGIN:VEVENT
DTSTART;TZID=Europe/Dublin:20260129T083000
DTEND;TZID=Europe/Dublin:20260129T100000
DTSTAMP:20260420T232456
CREATED:20251112T145906Z
LAST-MODIFIED:20260121T124520Z
UID:4062-1769675400-1769680800@www.dundalk.ie
SUMMARY:Members Business Tour 2026 - Anord Mardix
DESCRIPTION:Join us for our first Members Tour of 2026 kindly sponsored by Local Enterprise Office Louth. \nOn this exclusive tour as a Dundalk Chamber member\, you’ll visit Anord Mardix state-of-the-art facility in Dundalk. You’ll meet the dedicated team at Anord Mardix\, who are a Flex Company and a global leader with more than a century of pioneering innovation\, reliability and safety in the critical power industry are. \nAnord Mardix leverages comprehensive engineering excellence and commitment to customer care to design\, manufacture\, test and support quality modular power solutions customised for mission critical Data Centre applications. \nThe tour will include a walkthrough of their facility and meet members of the Anord Mardix team as well as having the opportunity to network with fellow chamber members. \nMEMBERS ONLY EVENT \nLIMITED NUMBERS
URL:https://www.dundalk.ie/event/members-business-tour-2026-anord-mardix/
LOCATION:Anord Mardix\, Anord Mardix D2. Inner Relief Rd\, Marshes Upper\, Dundalk\, Co Louth\, Dundalk\, Louth\, A91 NR13\, Ireland
CATEGORIES:Business
ATTACH;FMTTYPE=image/png:https://www.dundalk.ie/wp-content/uploads/2025/11/For-Website-1.png
ORGANIZER;CN="Dundalk Chamber":MAILTO:info@dundalk.ie
END:VEVENT
END:VCALENDAR