BEGIN:VCALENDAR
VERSION:2.0
PRODID:-//Dundalk Chamber Of Commerce - ECPv6.15.20//NONSGML v1.0//EN
CALSCALE:GREGORIAN
METHOD:PUBLISH
X-WR-CALNAME:Dundalk Chamber Of Commerce
X-ORIGINAL-URL:https://www.dundalk.ie
X-WR-CALDESC:Events for Dundalk Chamber Of Commerce
REFRESH-INTERVAL;VALUE=DURATION:PT1H
X-Robots-Tag:noindex
X-PUBLISHED-TTL:PT1H
BEGIN:VTIMEZONE
TZID:Europe/Dublin
BEGIN:DAYLIGHT
TZOFFSETFROM:+0000
TZOFFSETTO:+0100
TZNAME:IST
DTSTART:20250330T010000
END:DAYLIGHT
BEGIN:STANDARD
TZOFFSETFROM:+0100
TZOFFSETTO:+0000
TZNAME:GMT
DTSTART:20251026T010000
END:STANDARD
BEGIN:DAYLIGHT
TZOFFSETFROM:+0000
TZOFFSETTO:+0100
TZNAME:IST
DTSTART:20260329T010000
END:DAYLIGHT
BEGIN:STANDARD
TZOFFSETFROM:+0100
TZOFFSETTO:+0000
TZNAME:GMT
DTSTART:20261025T010000
END:STANDARD
BEGIN:DAYLIGHT
TZOFFSETFROM:+0000
TZOFFSETTO:+0100
TZNAME:IST
DTSTART:20270328T010000
END:DAYLIGHT
BEGIN:STANDARD
TZOFFSETFROM:+0100
TZOFFSETTO:+0000
TZNAME:GMT
DTSTART:20271031T010000
END:STANDARD
END:VTIMEZONE
BEGIN:VEVENT
DTSTART;TZID=Europe/Dublin:20260520T080000
DTEND;TZID=Europe/Dublin:20260520T170000
DTSTAMP:20260425T180001
CREATED:20260420T122722Z
LAST-MODIFIED:20260420T122722Z
UID:4592-1779264000-1779296400@www.dundalk.ie
SUMMARY:Dundalk Chamber AGM
DESCRIPTION:The Annual General Meeting Dundalk Chamber  will take place on Wednesday the 20th May at 8am  McGeoughs Bar & Restaurant\, Roden Place\, Dundalk \nOpen to Dundalk Chamber Members only and registration is essential. \nThe AGM is a fantastic opportunity to get an update on what your Chamber has been working on for the past year.  Chamber Staff\, Board and members of our Council are involved in Events\, Lobbying\, Tourism \, Industry initiatives and much more. \nAs a Dundalk Chamber member we would be delighted if you or a colleague are free to attend the AGM which also offers attendees a great chance to network with other members. \nRefreshments – Tea/Coffee & Breakfast Baps \n  \n 
URL:https://www.dundalk.ie/event/dundalk-chamber-agm/
LOCATION:McGeoughs Bar & Restaurant\, Roden Place\, Dundlak\, Ireland
CATEGORIES:Business
ATTACH;FMTTYPE=image/png:https://www.dundalk.ie/wp-content/uploads/2026/04/SAVE-the-Date-875-x-586-px-9.png
ORGANIZER;CN="Dundalk Chamber":MAILTO:info@dundalk.ie
END:VEVENT
END:VCALENDAR